BEGIN:VCALENDAR
VERSION:2.0
PRODID:-//SPD Nauheim - ECPv6.9.0//NONSGML v1.0//EN
CALSCALE:GREGORIAN
METHOD:PUBLISH
X-WR-CALNAME:SPD Nauheim
X-ORIGINAL-URL:https://spd-nauheim.de
X-WR-CALDESC:Veranstaltungen für SPD Nauheim
REFRESH-INTERVAL;VALUE=DURATION:PT1H
X-Robots-Tag:noindex
X-PUBLISHED-TTL:PT1H
BEGIN:VTIMEZONE
TZID:Europe/Berlin
BEGIN:DAYLIGHT
TZOFFSETFROM:+0100
TZOFFSETTO:+0200
TZNAME:CEST
DTSTART:20260329T010000
END:DAYLIGHT
BEGIN:STANDARD
TZOFFSETFROM:+0200
TZOFFSETTO:+0100
TZNAME:CET
DTSTART:20261025T010000
END:STANDARD
END:VTIMEZONE
BEGIN:VEVENT
DTSTART;TZID=Europe/Berlin:20261001T193000
DTEND;TZID=Europe/Berlin:20261001T213000
DTSTAMP:20260420T200557
CREATED:20260406T164332Z
LAST-MODIFIED:20260406T164332Z
UID:6745-1790883000-1790890200@spd-nauheim.de
SUMMARY:Gemeindevertretung
DESCRIPTION:
URL:https://spd-nauheim.de/termin/gemeindevertretung-3/
LOCATION:Bürgersaal Nauheim\, Am Sportpark\, Nauheim\, 64569
CATEGORIES:Gemeindevertretung
END:VEVENT
BEGIN:VEVENT
DTSTART;TZID=Europe/Berlin:20261020T193000
DTEND;TZID=Europe/Berlin:20261020T213000
DTSTAMP:20260420T200557
CREATED:20260406T164416Z
LAST-MODIFIED:20260406T164416Z
UID:6747-1792524600-1792531800@spd-nauheim.de
SUMMARY:Fraktionssitzung
DESCRIPTION:
URL:https://spd-nauheim.de/termin/fraktionssitzung-31/
LOCATION:SPD Geschäftsstelle\, Nauheim\, 64569
CATEGORIES:Fraktionssitzung
END:VEVENT
BEGIN:VEVENT
DTSTART;TZID=Europe/Berlin:20261027T193000
DTEND;TZID=Europe/Berlin:20261027T213000
DTSTAMP:20260420T200557
CREATED:20260406T164511Z
LAST-MODIFIED:20260406T164511Z
UID:6749-1793129400-1793136600@spd-nauheim.de
SUMMARY:OV-Vorstandssitzung
DESCRIPTION:
URL:https://spd-nauheim.de/termin/ov-vorstandssitzung-4/
LOCATION:SPD Geschäftsstelle\, Nauheim\, 64569
CATEGORIES:Vorstandssitzung
END:VEVENT
BEGIN:VEVENT
DTSTART;TZID=Europe/Berlin:20261030T180000
DTEND;TZID=Europe/Berlin:20261030T203000
DTSTAMP:20260420T200557
CREATED:20260406T164621Z
LAST-MODIFIED:20260406T164621Z
UID:6751-1793383200-1793392200@spd-nauheim.de
SUMMARY:Stammtisch
DESCRIPTION:
URL:https://spd-nauheim.de/termin/stammtisch-8/
LOCATION:Hochwimmers Stübchen\, Konrad-Adenauer-Allee\, Nauheim\, 64569
CATEGORIES:Stammtisch
END:VEVENT
END:VCALENDAR