BEGIN:VCALENDAR
VERSION:2.0
PRODID:-//SPD Nauheim - ECPv6.9.0//NONSGML v1.0//EN
CALSCALE:GREGORIAN
METHOD:PUBLISH
X-WR-CALNAME:SPD Nauheim
X-ORIGINAL-URL:https://spd-nauheim.de
X-WR-CALDESC:Veranstaltungen für SPD Nauheim
REFRESH-INTERVAL;VALUE=DURATION:PT1H
X-Robots-Tag:noindex
X-PUBLISHED-TTL:PT1H
BEGIN:VTIMEZONE
TZID:Europe/Berlin
BEGIN:DAYLIGHT
TZOFFSETFROM:+0100
TZOFFSETTO:+0200
TZNAME:CEST
DTSTART:20250330T010000
END:DAYLIGHT
BEGIN:STANDARD
TZOFFSETFROM:+0200
TZOFFSETTO:+0100
TZNAME:CET
DTSTART:20251026T010000
END:STANDARD
END:VTIMEZONE
BEGIN:VEVENT
DTSTART;TZID=Europe/Berlin:20251202T193000
DTEND;TZID=Europe/Berlin:20251202T213000
DTSTAMP:20260420T063248
CREATED:20241130T135332Z
LAST-MODIFIED:20241130T135332Z
UID:6320-1764703800-1764711000@spd-nauheim.de
SUMMARY:Fraktionssitzung
DESCRIPTION:
URL:https://spd-nauheim.de/termin/fraktionssitzung-13/
LOCATION:SPD Geschäftsstelle\, Nauheim\, 64569
CATEGORIES:Fraktionssitzung
END:VEVENT
BEGIN:VEVENT
DTSTART;TZID=Europe/Berlin:20251208T193000
DTEND;TZID=Europe/Berlin:20251208T213000
DTSTAMP:20260420T063248
CREATED:20241130T135433Z
LAST-MODIFIED:20241130T135433Z
UID:6322-1765222200-1765229400@spd-nauheim.de
SUMMARY:SKSI Ausschuss
DESCRIPTION:
URL:https://spd-nauheim.de/termin/sksi-ausschuss-4/
LOCATION:Bürgersaal Nauheim\, Am Sportpark\, Nauheim\, 64569
CATEGORIES:Sitzungen
END:VEVENT
BEGIN:VEVENT
DTSTART;TZID=Europe/Berlin:20251210T180000
DTEND;TZID=Europe/Berlin:20251210T210000
DTSTAMP:20260420T063248
CREATED:20241130T135625Z
LAST-MODIFIED:20241130T135656Z
UID:6326-1765389600-1765400400@spd-nauheim.de
SUMMARY:AG 60plus
DESCRIPTION:
URL:https://spd-nauheim.de/termin/ag-60plus-7/
LOCATION:Nebenraum Hessischer Hof\, Bahnhofstr.\, Nauheim\, 64569
CATEGORIES:Stammtisch
END:VEVENT
BEGIN:VEVENT
DTSTART;TZID=Europe/Berlin:20251210T193000
DTEND;TZID=Europe/Berlin:20251210T213000
DTSTAMP:20260420T063248
CREATED:20241130T135532Z
LAST-MODIFIED:20241130T135532Z
UID:6324-1765395000-1765402200@spd-nauheim.de
SUMMARY:BPU Ausschuss
DESCRIPTION:
URL:https://spd-nauheim.de/termin/bpu-ausschuss-4/
LOCATION:Bürgersaal Nauheim\, Am Sportpark\, Nauheim\, 64569
CATEGORIES:Sitzungen
END:VEVENT
BEGIN:VEVENT
DTSTART;TZID=Europe/Berlin:20251215T193000
DTEND;TZID=Europe/Berlin:20251215T213000
DTSTAMP:20260420T063248
CREATED:20241130T135745Z
LAST-MODIFIED:20241130T135745Z
UID:6328-1765827000-1765834200@spd-nauheim.de
SUMMARY:HFA Ausschuss
DESCRIPTION:
URL:https://spd-nauheim.de/termin/hfa-ausschuss-4/
LOCATION:Bürgersaal Nauheim\, Am Sportpark\, Nauheim\, 64569
CATEGORIES:Sitzungen
END:VEVENT
BEGIN:VEVENT
DTSTART;TZID=Europe/Berlin:20251216T193000
DTEND;TZID=Europe/Berlin:20251216T213000
DTSTAMP:20260420T063248
CREATED:20241130T135837Z
LAST-MODIFIED:20241130T135837Z
UID:6330-1765913400-1765920600@spd-nauheim.de
SUMMARY:Fraktionssitzung
DESCRIPTION:
URL:https://spd-nauheim.de/termin/fraktionssitzung-14/
LOCATION:SPD Geschäftsstelle\, Nauheim\, 64569
CATEGORIES:Fraktionssitzung
END:VEVENT
BEGIN:VEVENT
DTSTART;TZID=Europe/Berlin:20251218T193000
DTEND;TZID=Europe/Berlin:20251218T213000
DTSTAMP:20260420T063248
CREATED:20241130T135947Z
LAST-MODIFIED:20241130T135948Z
UID:6332-1766086200-1766093400@spd-nauheim.de
SUMMARY:GVE - parlm. Abend
DESCRIPTION:
URL:https://spd-nauheim.de/termin/gve-parlm-abend/
LOCATION:Bürgersaal Nauheim\, Am Sportpark\, Nauheim\, 64569
CATEGORIES:Sitzungen
END:VEVENT
BEGIN:VEVENT
DTSTART;VALUE=DATE:20251224
DTEND;VALUE=DATE:20251225
DTSTAMP:20260420T063248
CREATED:20241130T142150Z
LAST-MODIFIED:20241130T142150Z
UID:6356-1766534400-1766620799@spd-nauheim.de
SUMMARY:Heiligabend
DESCRIPTION:
URL:https://spd-nauheim.de/termin/heiligabend/
END:VEVENT
BEGIN:VEVENT
DTSTART;VALUE=DATE:20251225
DTEND;VALUE=DATE:20251226
DTSTAMP:20260420T063248
CREATED:20241130T142224Z
LAST-MODIFIED:20241130T142225Z
UID:6358-1766620800-1766707199@spd-nauheim.de
SUMMARY:1. Weihnachstag
DESCRIPTION:
URL:https://spd-nauheim.de/termin/1-weihnachstag/
END:VEVENT
BEGIN:VEVENT
DTSTART;VALUE=DATE:20251226
DTEND;VALUE=DATE:20251227
DTSTAMP:20260420T063248
CREATED:20241130T142311Z
LAST-MODIFIED:20241130T142312Z
UID:6360-1766707200-1766793599@spd-nauheim.de
SUMMARY:2. Weihnachtstag
DESCRIPTION:
URL:https://spd-nauheim.de/termin/2-weihnachtstag/
END:VEVENT
END:VCALENDAR