BEGIN:VCALENDAR
VERSION:2.0
PRODID:-//SPD Nauheim - ECPv6.9.0//NONSGML v1.0//EN
CALSCALE:GREGORIAN
METHOD:PUBLISH
X-ORIGINAL-URL:https://spd-nauheim.de
X-WR-CALDESC:Veranstaltungen für SPD Nauheim
REFRESH-INTERVAL;VALUE=DURATION:PT1H
X-Robots-Tag:noindex
X-PUBLISHED-TTL:PT1H
BEGIN:VTIMEZONE
TZID:Europe/Berlin
BEGIN:DAYLIGHT
TZOFFSETFROM:+0100
TZOFFSETTO:+0200
TZNAME:CEST
DTSTART:20260329T010000
END:DAYLIGHT
BEGIN:STANDARD
TZOFFSETFROM:+0200
TZOFFSETTO:+0100
TZNAME:CET
DTSTART:20261025T010000
END:STANDARD
END:VTIMEZONE
BEGIN:VEVENT
DTSTART;TZID=Europe/Berlin:20261110T193000
DTEND;TZID=Europe/Berlin:20261110T213000
DTSTAMP:20260421T160827
CREATED:20260406T164909Z
LAST-MODIFIED:20260406T164909Z
UID:6757-1794339000-1794346200@spd-nauheim.de
SUMMARY:Fraktionssitzung
DESCRIPTION:
URL:https://spd-nauheim.de/termin/fraktionssitzung-33/
LOCATION:Online (Telekonferenz)\, Nauheim\, 64569
CATEGORIES:Fraktionssitzung
END:VEVENT
BEGIN:VEVENT
DTSTART;TZID=Europe/Berlin:20261111T193000
DTEND;TZID=Europe/Berlin:20261111T213000
DTSTAMP:20260421T160827
CREATED:20260406T164943Z
LAST-MODIFIED:20260406T164943Z
UID:6759-1794425400-1794432600@spd-nauheim.de
SUMMARY:BPU
DESCRIPTION:
URL:https://spd-nauheim.de/termin/bpu-4/
LOCATION:Bürgersaal Nauheim\, Am Sportpark\, Nauheim\, 64569
CATEGORIES:Gemeindevertretung
END:VEVENT
BEGIN:VEVENT
DTSTART;TZID=Europe/Berlin:20261116T193000
DTEND;TZID=Europe/Berlin:20261116T213000
DTSTAMP:20260421T160827
CREATED:20260406T165528Z
LAST-MODIFIED:20260406T165528Z
UID:6761-1794857400-1794864600@spd-nauheim.de
SUMMARY:HFA
DESCRIPTION:
URL:https://spd-nauheim.de/termin/hfa-4/
LOCATION:Bürgersaal Nauheim\, Am Sportpark\, Nauheim\, 64569
CATEGORIES:Gemeindevertretung
END:VEVENT
BEGIN:VEVENT
DTSTART;TZID=Europe/Berlin:20261117T193000
DTEND;TZID=Europe/Berlin:20261117T213000
DTSTAMP:20260421T160827
CREATED:20260406T165615Z
LAST-MODIFIED:20260406T165615Z
UID:6763-1794943800-1794951000@spd-nauheim.de
SUMMARY:Fraktionssitzung
DESCRIPTION:
URL:https://spd-nauheim.de/termin/fraktionssitzung-34/
LOCATION:SPD Geschäftsstelle\, Nauheim\, 64569
CATEGORIES:Fraktionssitzung
END:VEVENT
BEGIN:VEVENT
DTSTART;TZID=Europe/Berlin:20261119T193000
DTEND;TZID=Europe/Berlin:20261119T213000
DTSTAMP:20260421T160827
CREATED:20260406T165717Z
LAST-MODIFIED:20260406T165717Z
UID:6765-1795116600-1795123800@spd-nauheim.de
SUMMARY:Gemeindevertretung
DESCRIPTION:
URL:https://spd-nauheim.de/termin/gemeindevertretung-4/
LOCATION:Bürgersaal Nauheim\, Am Sportpark\, Nauheim\, 64569
CATEGORIES:Gemeindevertretung
END:VEVENT
BEGIN:VEVENT
DTSTART;TZID=Europe/Berlin:20261120T180000
DTEND;TZID=Europe/Berlin:20261120T203000
DTSTAMP:20260421T160827
CREATED:20260406T165809Z
LAST-MODIFIED:20260406T165809Z
UID:6767-1795197600-1795206600@spd-nauheim.de
SUMMARY:Stammtisch
DESCRIPTION:
URL:https://spd-nauheim.de/termin/stammtisch-9/
LOCATION:Hochwimmers Stübchen\, Konrad-Adenauer-Allee\, Nauheim\, 64569
CATEGORIES:Stammtisch
END:VEVENT
BEGIN:VEVENT
DTSTART;TZID=Europe/Berlin:20261124T193000
DTEND;TZID=Europe/Berlin:20261124T213000
DTSTAMP:20260421T160827
CREATED:20260406T165933Z
LAST-MODIFIED:20260406T165933Z
UID:6769-1795548600-1795555800@spd-nauheim.de
SUMMARY:OV-Vorstandssitzung
DESCRIPTION:
URL:https://spd-nauheim.de/termin/ov-vorstandssitzung-5/
LOCATION:SPD Geschäftsstelle\, Nauheim\, 64569
CATEGORIES:Vorstandssitzung
END:VEVENT
BEGIN:VEVENT
DTSTART;TZID=Europe/Berlin:20261208T193000
DTEND;TZID=Europe/Berlin:20261208T213000
DTSTAMP:20260421T160827
CREATED:20260406T170042Z
LAST-MODIFIED:20260406T170042Z
UID:6771-1796758200-1796765400@spd-nauheim.de
SUMMARY:Fraktionssitzung
DESCRIPTION:
URL:https://spd-nauheim.de/termin/fraktionssitzung-35/
LOCATION:Online (Telekonferenz)\, Nauheim\, 64569
CATEGORIES:Fraktionssitzung
END:VEVENT
BEGIN:VEVENT
DTSTART;TZID=Europe/Berlin:20261210T193000
DTEND;TZID=Europe/Berlin:20261210T213000
DTSTAMP:20260421T160827
CREATED:20260406T170121Z
LAST-MODIFIED:20260406T170121Z
UID:6773-1796931000-1796938200@spd-nauheim.de
SUMMARY:Gemeindevertretung
DESCRIPTION:
URL:https://spd-nauheim.de/termin/gemeindevertretung-5/
LOCATION:Bürgersaal Nauheim\, Am Sportpark\, Nauheim\, 64569
CATEGORIES:Gemeindevertretung
END:VEVENT
END:VCALENDAR