BEGIN:VCALENDAR
VERSION:2.0
PRODID:-//SPD Nauheim - ECPv6.9.0//NONSGML v1.0//EN
CALSCALE:GREGORIAN
METHOD:PUBLISH
X-ORIGINAL-URL:https://spd-nauheim.de
X-WR-CALDESC:Veranstaltungen für SPD Nauheim
REFRESH-INTERVAL;VALUE=DURATION:PT1H
X-Robots-Tag:noindex
X-PUBLISHED-TTL:PT1H
BEGIN:VTIMEZONE
TZID:Europe/Berlin
BEGIN:DAYLIGHT
TZOFFSETFROM:+0100
TZOFFSETTO:+0200
TZNAME:CEST
DTSTART:20250330T010000
END:DAYLIGHT
BEGIN:STANDARD
TZOFFSETFROM:+0200
TZOFFSETTO:+0100
TZNAME:CET
DTSTART:20251026T010000
END:STANDARD
BEGIN:DAYLIGHT
TZOFFSETFROM:+0100
TZOFFSETTO:+0200
TZNAME:CEST
DTSTART:20260329T010000
END:DAYLIGHT
BEGIN:STANDARD
TZOFFSETFROM:+0200
TZOFFSETTO:+0100
TZNAME:CET
DTSTART:20261025T010000
END:STANDARD
END:VTIMEZONE
BEGIN:VEVENT
DTSTART;TZID=Europe/Berlin:20260416T193000
DTEND;TZID=Europe/Berlin:20260416T213000
DTSTAMP:20260420T001130
CREATED:20260406T130602Z
LAST-MODIFIED:20260406T130602Z
UID:6681-1776367800-1776375000@spd-nauheim.de
SUMMARY:Konstituierende Gemeindevertretungssitzung
DESCRIPTION:
URL:https://spd-nauheim.de/termin/konstituierende-gemeindevertretungssitzung/
LOCATION:Bürgersaal Nauheim\, Am Sportpark\, Nauheim\, 64569
CATEGORIES:Sitzungen
END:VEVENT
BEGIN:VEVENT
DTSTART;TZID=Europe/Berlin:20260414T193000
DTEND;TZID=Europe/Berlin:20260414T213000
DTSTAMP:20260420T001130
CREATED:20260406T130058Z
LAST-MODIFIED:20260406T130058Z
UID:6677-1776195000-1776202200@spd-nauheim.de
SUMMARY:Fraktionssitzung
DESCRIPTION:
URL:https://spd-nauheim.de/termin/fraktionssitzung-22/
LOCATION:SPD Geschäftsstelle\, Nauheim\, 64569
CATEGORIES:Fraktionssitzung
END:VEVENT
BEGIN:VEVENT
DTSTART;TZID=Europe/Berlin:20260227T180000
DTEND;TZID=Europe/Berlin:20260227T203000
DTSTAMP:20260420T001130
CREATED:20241130T135026Z
LAST-MODIFIED:20260208T135414Z
UID:6314-1772215200-1772224200@spd-nauheim.de
SUMMARY:SPD Stammtisch
DESCRIPTION:
URL:https://spd-nauheim.de/termin/spd-stammtisch-9/
LOCATION:Hochwimmers Stübchen\, Konrad-Adenauer-Allee\, Nauheim\, 64569
CATEGORIES:Stammtisch
END:VEVENT
BEGIN:VEVENT
DTSTART;TZID=Europe/Berlin:20260224T193000
DTEND;TZID=Europe/Berlin:20260224T213000
DTSTAMP:20260420T001130
CREATED:20260208T135514Z
LAST-MODIFIED:20260208T135514Z
UID:6668-1771961400-1771968600@spd-nauheim.de
SUMMARY:Fraktionssitzung
DESCRIPTION:
URL:https://spd-nauheim.de/termin/fraktionssitzung-21/
LOCATION:SPD Geschäftsstelle\, Nauheim\, 64569
CATEGORIES:Fraktionssitzung
END:VEVENT
BEGIN:VEVENT
DTSTART;TZID=Europe/Berlin:20260218T170000
DTEND;TZID=Europe/Berlin:20260218T193000
DTSTAMP:20260420T001130
CREATED:20260208T135221Z
LAST-MODIFIED:20260208T135221Z
UID:6666-1771434000-1771443000@spd-nauheim.de
SUMMARY:Traditionelles Heringsessen
DESCRIPTION:Hausgemachter Heringssalat und Vegetarisches \nMitreden. Austauschen. Begegnen In gemütlicher Runde. \nImpuls: „Wo brennt’s in Nauheim?“ von Frank Schmitz
URL:https://spd-nauheim.de/termin/traditionelles-heringsessen/
LOCATION:Hochwimmers Stübchen\, Konrad-Adenauer-Allee\, Nauheim\, 64569
CATEGORIES:SPD vor Ort,Vortrag
END:VEVENT
BEGIN:VEVENT
DTSTART;TZID=Europe/Berlin:20260217T193000
DTEND;TZID=Europe/Berlin:20260217T213000
DTSTAMP:20260420T001130
CREATED:20260208T134930Z
LAST-MODIFIED:20260208T134930Z
UID:6664-1771356600-1771363800@spd-nauheim.de
SUMMARY:Vorstandssitzung
DESCRIPTION:
URL:https://spd-nauheim.de/termin/vorstandssitzung-10/
LOCATION:SPD Geschäftsstelle\, Nauheim\, 64569
END:VEVENT
BEGIN:VEVENT
DTSTART;TZID=Europe/Berlin:20260113T193000
DTEND;TZID=Europe/Berlin:20260113T220000
DTSTAMP:20260420T001130
CREATED:20251203T183323Z
LAST-MODIFIED:20251203T183323Z
UID:6482-1768332600-1768341600@spd-nauheim.de
SUMMARY:Vorstandssitzung
DESCRIPTION:Vorstandssitzungen der SPD Nauheim sind grundsätzlich für SPD-Mitglieder öffentlich. Bei Interesse an einer Teilnahme ohne Mitgliedschaft bitten wir um Anmeldung.
URL:https://spd-nauheim.de/termin/vorstandssitzung-3/
LOCATION:SPD Geschäftsstelle\, Nauheim\, 64569
CATEGORIES:Vorstandssitzung
END:VEVENT
BEGIN:VEVENT
DTSTART;TZID=Europe/Berlin:20260111T110000
DTEND;TZID=Europe/Berlin:20260111T140000
DTSTAMP:20260420T001130
CREATED:20251203T182442Z
LAST-MODIFIED:20251203T182442Z
UID:6479-1768129200-1768140000@spd-nauheim.de
SUMMARY:Neujahrsempfang der SPD Nauheim
DESCRIPTION:Wie jedes Jahr lädt der SPD Ortsverein Nauheim herzlich zum Neujahrsempfang ein.\nBei einem leckeren Pasta-Buffet haben alle Nauheimerinnen und Nauheimer die Möglichkeit die Kandidatinnen und Kandidaten der SPD Nauheim zur Kommunalwahl 2026 sowie das Wahlprogramm kennenzulernen. \nUm Anmeldung unter ortsverein(at)spd-nauheim.de wird gebeten.
URL:https://spd-nauheim.de/termin/neujahrsempfang-der-spd-nauheim/
LOCATION:Bürgersaal Nauheim\, Am Sportpark\, Nauheim\, 64569
CATEGORIES:Mitgliederveranstaltung,Mitgliederversammlung,Neujahrsempfang
END:VEVENT
BEGIN:VEVENT
DTSTART;VALUE=DATE:20251226
DTEND;VALUE=DATE:20251227
DTSTAMP:20260420T001130
CREATED:20241130T142311Z
LAST-MODIFIED:20241130T142312Z
UID:6360-1766707200-1766793599@spd-nauheim.de
SUMMARY:2. Weihnachtstag
DESCRIPTION:
URL:https://spd-nauheim.de/termin/2-weihnachtstag/
END:VEVENT
BEGIN:VEVENT
DTSTART;VALUE=DATE:20251225
DTEND;VALUE=DATE:20251226
DTSTAMP:20260420T001130
CREATED:20241130T142224Z
LAST-MODIFIED:20241130T142225Z
UID:6358-1766620800-1766707199@spd-nauheim.de
SUMMARY:1. Weihnachstag
DESCRIPTION:
URL:https://spd-nauheim.de/termin/1-weihnachstag/
END:VEVENT
BEGIN:VEVENT
DTSTART;VALUE=DATE:20251224
DTEND;VALUE=DATE:20251225
DTSTAMP:20260420T001130
CREATED:20241130T142150Z
LAST-MODIFIED:20241130T142150Z
UID:6356-1766534400-1766620799@spd-nauheim.de
SUMMARY:Heiligabend
DESCRIPTION:
URL:https://spd-nauheim.de/termin/heiligabend/
END:VEVENT
BEGIN:VEVENT
DTSTART;TZID=Europe/Berlin:20251218T193000
DTEND;TZID=Europe/Berlin:20251218T213000
DTSTAMP:20260420T001130
CREATED:20241130T135947Z
LAST-MODIFIED:20241130T135948Z
UID:6332-1766086200-1766093400@spd-nauheim.de
SUMMARY:GVE - parlm. Abend
DESCRIPTION:
URL:https://spd-nauheim.de/termin/gve-parlm-abend/
LOCATION:Bürgersaal Nauheim\, Am Sportpark\, Nauheim\, 64569
CATEGORIES:Sitzungen
END:VEVENT
BEGIN:VEVENT
DTSTART;TZID=Europe/Berlin:20251216T193000
DTEND;TZID=Europe/Berlin:20251216T213000
DTSTAMP:20260420T001130
CREATED:20241130T135837Z
LAST-MODIFIED:20241130T135837Z
UID:6330-1765913400-1765920600@spd-nauheim.de
SUMMARY:Fraktionssitzung
DESCRIPTION:
URL:https://spd-nauheim.de/termin/fraktionssitzung-14/
LOCATION:SPD Geschäftsstelle\, Nauheim\, 64569
CATEGORIES:Fraktionssitzung
END:VEVENT
BEGIN:VEVENT
DTSTART;TZID=Europe/Berlin:20251215T193000
DTEND;TZID=Europe/Berlin:20251215T213000
DTSTAMP:20260420T001130
CREATED:20241130T135745Z
LAST-MODIFIED:20241130T135745Z
UID:6328-1765827000-1765834200@spd-nauheim.de
SUMMARY:HFA Ausschuss
DESCRIPTION:
URL:https://spd-nauheim.de/termin/hfa-ausschuss-4/
LOCATION:Bürgersaal Nauheim\, Am Sportpark\, Nauheim\, 64569
CATEGORIES:Sitzungen
END:VEVENT
BEGIN:VEVENT
DTSTART;TZID=Europe/Berlin:20251210T193000
DTEND;TZID=Europe/Berlin:20251210T213000
DTSTAMP:20260420T001130
CREATED:20241130T135532Z
LAST-MODIFIED:20241130T135532Z
UID:6324-1765395000-1765402200@spd-nauheim.de
SUMMARY:BPU Ausschuss
DESCRIPTION:
URL:https://spd-nauheim.de/termin/bpu-ausschuss-4/
LOCATION:Bürgersaal Nauheim\, Am Sportpark\, Nauheim\, 64569
CATEGORIES:Sitzungen
END:VEVENT
BEGIN:VEVENT
DTSTART;TZID=Europe/Berlin:20251210T180000
DTEND;TZID=Europe/Berlin:20251210T210000
DTSTAMP:20260420T001130
CREATED:20241130T135625Z
LAST-MODIFIED:20241130T135656Z
UID:6326-1765389600-1765400400@spd-nauheim.de
SUMMARY:AG 60plus
DESCRIPTION:
URL:https://spd-nauheim.de/termin/ag-60plus-7/
LOCATION:Nebenraum Hessischer Hof\, Bahnhofstr.\, Nauheim\, 64569
CATEGORIES:Stammtisch
END:VEVENT
BEGIN:VEVENT
DTSTART;TZID=Europe/Berlin:20251208T193000
DTEND;TZID=Europe/Berlin:20251208T213000
DTSTAMP:20260420T001130
CREATED:20241130T135433Z
LAST-MODIFIED:20241130T135433Z
UID:6322-1765222200-1765229400@spd-nauheim.de
SUMMARY:SKSI Ausschuss
DESCRIPTION:
URL:https://spd-nauheim.de/termin/sksi-ausschuss-4/
LOCATION:Bürgersaal Nauheim\, Am Sportpark\, Nauheim\, 64569
CATEGORIES:Sitzungen
END:VEVENT
BEGIN:VEVENT
DTSTART;TZID=Europe/Berlin:20251202T193000
DTEND;TZID=Europe/Berlin:20251202T213000
DTSTAMP:20260420T001130
CREATED:20241130T135332Z
LAST-MODIFIED:20241130T135332Z
UID:6320-1764703800-1764711000@spd-nauheim.de
SUMMARY:Fraktionssitzung
DESCRIPTION:
URL:https://spd-nauheim.de/termin/fraktionssitzung-13/
LOCATION:SPD Geschäftsstelle\, Nauheim\, 64569
CATEGORIES:Fraktionssitzung
END:VEVENT
BEGIN:VEVENT
DTSTART;TZID=Europe/Berlin:20251130T110000
DTEND;TZID=Europe/Berlin:20251130T193000
DTSTAMP:20260420T001130
CREATED:20241130T135233Z
LAST-MODIFIED:20241130T135233Z
UID:6318-1764500400-1764531000@spd-nauheim.de
SUMMARY:Weihnachtsmarkt
DESCRIPTION:
URL:https://spd-nauheim.de/termin/weihnachtsmarkt-2/
LOCATION:Atrium Nauheim
CATEGORIES:Weihnachtsmarkt
END:VEVENT
BEGIN:VEVENT
DTSTART;TZID=Europe/Berlin:20251129T130000
DTEND;TZID=Europe/Berlin:20251129T220000
DTSTAMP:20260420T001130
CREATED:20241130T135138Z
LAST-MODIFIED:20241130T135139Z
UID:6316-1764421200-1764453600@spd-nauheim.de
SUMMARY:Weihnachtsmarkt
DESCRIPTION:
URL:https://spd-nauheim.de/termin/weihnachtsmarkt/
LOCATION:Atrium Nauheim
CATEGORIES:Weihnachtsmarkt
END:VEVENT
BEGIN:VEVENT
DTSTART;TZID=Europe/Berlin:20251118T193000
DTEND;TZID=Europe/Berlin:20251118T213000
DTSTAMP:20260420T001130
CREATED:20241130T134924Z
LAST-MODIFIED:20241130T134924Z
UID:6312-1763494200-1763501400@spd-nauheim.de
SUMMARY:Vorstandssitzung
DESCRIPTION:
URL:https://spd-nauheim.de/termin/vorstandssitzung-9/
LOCATION:SPD Geschäftsstelle\, Nauheim\, 64569
CATEGORIES:Vorstandssitzung
END:VEVENT
BEGIN:VEVENT
DTSTART;TZID=Europe/Berlin:20251112T180000
DTEND;TZID=Europe/Berlin:20251112T200000
DTSTAMP:20260420T001130
CREATED:20241130T134812Z
LAST-MODIFIED:20241130T134812Z
UID:6310-1762970400-1762977600@spd-nauheim.de
SUMMARY:AG 60plus
DESCRIPTION:
URL:https://spd-nauheim.de/termin/ag-60plus-6/
LOCATION:Nebenraum Hessischer Hof\, Bahnhofstr.\, Nauheim\, 64569
CATEGORIES:AG60+
END:VEVENT
BEGIN:VEVENT
DTSTART;TZID=Europe/Berlin:20251111T193000
DTEND;TZID=Europe/Berlin:20251111T213000
DTSTAMP:20260420T001130
CREATED:20241130T134655Z
LAST-MODIFIED:20241130T134713Z
UID:6308-1762889400-1762896600@spd-nauheim.de
SUMMARY:Fraktionssitzung
DESCRIPTION:
URL:https://spd-nauheim.de/termin/fraktionssitzung-12/
LOCATION:SPD Geschäftsstelle\, Nauheim\, 64569
CATEGORIES:Fraktionssitzung
END:VEVENT
BEGIN:VEVENT
DTSTART;VALUE=DATE:20251101
DTEND;VALUE=DATE:20251102
DTSTAMP:20260420T001130
CREATED:20241130T134539Z
LAST-MODIFIED:20241130T134539Z
UID:6306-1761955200-1762041599@spd-nauheim.de
SUMMARY:Allerheiligen
DESCRIPTION:
URL:https://spd-nauheim.de/termin/allerheiligen/
END:VEVENT
BEGIN:VEVENT
DTSTART;TZID=Europe/Berlin:20251031T160000
DTEND;TZID=Europe/Berlin:20251031T190000
DTSTAMP:20260420T001130
CREATED:20241130T134501Z
LAST-MODIFIED:20241130T134504Z
UID:6304-1761926400-1761937200@spd-nauheim.de
SUMMARY:SPD Kids-Halloween
DESCRIPTION:
URL:https://spd-nauheim.de/termin/spd-kids-halloween/
LOCATION:SPD Geschäftsstelle\, Nauheim\, 64569
END:VEVENT
BEGIN:VEVENT
DTSTART;TZID=Europe/Berlin:20251030T193000
DTEND;TZID=Europe/Berlin:20251030T213000
DTSTAMP:20260420T001130
CREATED:20241130T134311Z
LAST-MODIFIED:20241130T134345Z
UID:6302-1761852600-1761859800@spd-nauheim.de
SUMMARY:GVE Sitzung
DESCRIPTION:
URL:https://spd-nauheim.de/termin/gve-sitzung-3/
LOCATION:Bürgersaal Nauheim\, Am Sportpark\, Nauheim\, 64569
CATEGORIES:Sitzungen
END:VEVENT
BEGIN:VEVENT
DTSTART;TZID=Europe/Berlin:20251027T193000
DTEND;TZID=Europe/Berlin:20251027T213000
DTSTAMP:20260420T001130
CREATED:20241130T134214Z
LAST-MODIFIED:20241130T134214Z
UID:6300-1761593400-1761600600@spd-nauheim.de
SUMMARY:HFA Ausschuss
DESCRIPTION:
URL:https://spd-nauheim.de/termin/hfa-ausschuss-3/
LOCATION:Bürgersaal Nauheim\, Am Sportpark\, Nauheim\, 64569
CATEGORIES:Sitzungen
END:VEVENT
BEGIN:VEVENT
DTSTART;TZID=Europe/Berlin:20251024T190000
DTEND;TZID=Europe/Berlin:20251024T220000
DTSTAMP:20260420T001130
CREATED:20250728T115707Z
LAST-MODIFIED:20250728T115707Z
UID:6452-1761332400-1761343200@spd-nauheim.de
SUMMARY:Mitgliederversammlung
DESCRIPTION:
URL:https://spd-nauheim.de/termin/mitgliederversammlung/
LOCATION:Hochwimmers Stübchen\, Konrad-Adenauer-Allee\, Nauheim\, 64569
CATEGORIES:Mitgliederversammlung
END:VEVENT
BEGIN:VEVENT
DTSTART;TZID=Europe/Berlin:20251022T193000
DTEND;TZID=Europe/Berlin:20251022T213000
DTSTAMP:20260420T001130
CREATED:20241130T133821Z
LAST-MODIFIED:20241130T134012Z
UID:6296-1761161400-1761168600@spd-nauheim.de
SUMMARY:BPU Ausschuss
DESCRIPTION:
URL:https://spd-nauheim.de/termin/bpu-ausschuss-3/
LOCATION:Bürgersaal Nauheim\, Am Sportpark\, Nauheim\, 64569
CATEGORIES:Sitzungen
END:VEVENT
BEGIN:VEVENT
DTSTART;TZID=Europe/Berlin:20251021T193000
DTEND;TZID=Europe/Berlin:20251021T213000
DTSTAMP:20260420T001130
CREATED:20241130T134113Z
LAST-MODIFIED:20241130T134114Z
UID:6298-1761075000-1761082200@spd-nauheim.de
SUMMARY:Vorstandsitzung
DESCRIPTION:
URL:https://spd-nauheim.de/termin/vorstandsitzung/
LOCATION:SPD Geschäftsstelle\, Nauheim\, 64569
CATEGORIES:Vorstandssitzung
END:VEVENT
END:VCALENDAR