BEGIN:VCALENDAR
VERSION:2.0
PRODID:-//SPD Nauheim - ECPv6.9.0//NONSGML v1.0//EN
CALSCALE:GREGORIAN
METHOD:PUBLISH
X-WR-CALNAME:SPD Nauheim
X-ORIGINAL-URL:https://spd-nauheim.de
X-WR-CALDESC:Veranstaltungen für SPD Nauheim
REFRESH-INTERVAL;VALUE=DURATION:PT1H
X-Robots-Tag:noindex
X-PUBLISHED-TTL:PT1H
BEGIN:VTIMEZONE
TZID:Europe/Berlin
BEGIN:DAYLIGHT
TZOFFSETFROM:+0100
TZOFFSETTO:+0200
TZNAME:CEST
DTSTART:20260329T010000
END:DAYLIGHT
BEGIN:STANDARD
TZOFFSETFROM:+0200
TZOFFSETTO:+0100
TZNAME:CET
DTSTART:20261025T010000
END:STANDARD
END:VTIMEZONE
BEGIN:VEVENT
DTSTART;TZID=Europe/Berlin:20260218T170000
DTEND;TZID=Europe/Berlin:20260218T193000
DTSTAMP:20260420T044848
CREATED:20260208T135221Z
LAST-MODIFIED:20260208T135221Z
UID:6666-1771434000-1771443000@spd-nauheim.de
SUMMARY:Traditionelles Heringsessen
DESCRIPTION:Hausgemachter Heringssalat und Vegetarisches \nMitreden. Austauschen. Begegnen In gemütlicher Runde. \nImpuls: „Wo brennt’s in Nauheim?“ von Frank Schmitz
URL:https://spd-nauheim.de/termin/traditionelles-heringsessen/
LOCATION:Hochwimmers Stübchen\, Konrad-Adenauer-Allee\, Nauheim\, 64569
CATEGORIES:SPD vor Ort,Vortrag
END:VEVENT
END:VCALENDAR