BEGIN:VCALENDAR
VERSION:2.0
PRODID:-//SPD Nauheim - ECPv6.9.0//NONSGML v1.0//EN
CALSCALE:GREGORIAN
METHOD:PUBLISH
X-WR-CALNAME:SPD Nauheim
X-ORIGINAL-URL:https://spd-nauheim.de
X-WR-CALDESC:Veranstaltungen für SPD Nauheim
REFRESH-INTERVAL;VALUE=DURATION:PT1H
X-Robots-Tag:noindex
X-PUBLISHED-TTL:PT1H
BEGIN:VTIMEZONE
TZID:Europe/Berlin
BEGIN:DAYLIGHT
TZOFFSETFROM:+0100
TZOFFSETTO:+0200
TZNAME:CEST
DTSTART:20260329T010000
END:DAYLIGHT
BEGIN:STANDARD
TZOFFSETFROM:+0200
TZOFFSETTO:+0100
TZNAME:CET
DTSTART:20261025T010000
END:STANDARD
END:VTIMEZONE
BEGIN:VEVENT
DTSTART;TZID=Europe/Berlin:20260113T193000
DTEND;TZID=Europe/Berlin:20260113T220000
DTSTAMP:20260420T063316
CREATED:20251203T183323Z
LAST-MODIFIED:20251203T183323Z
UID:6482-1768332600-1768341600@spd-nauheim.de
SUMMARY:Vorstandssitzung
DESCRIPTION:Vorstandssitzungen der SPD Nauheim sind grundsätzlich für SPD-Mitglieder öffentlich. Bei Interesse an einer Teilnahme ohne Mitgliedschaft bitten wir um Anmeldung.
URL:https://spd-nauheim.de/termin/vorstandssitzung-3/
LOCATION:SPD Geschäftsstelle\, Nauheim\, 64569
CATEGORIES:Vorstandssitzung
END:VEVENT
END:VCALENDAR