BEGIN:VCALENDAR
VERSION:2.0
PRODID:-//SPD Nauheim - ECPv6.9.0//NONSGML v1.0//EN
CALSCALE:GREGORIAN
METHOD:PUBLISH
X-WR-CALNAME:SPD Nauheim
X-ORIGINAL-URL:https://spd-nauheim.de
X-WR-CALDESC:Veranstaltungen für SPD Nauheim
REFRESH-INTERVAL;VALUE=DURATION:PT1H
X-Robots-Tag:noindex
X-PUBLISHED-TTL:PT1H
BEGIN:VTIMEZONE
TZID:Europe/Berlin
BEGIN:DAYLIGHT
TZOFFSETFROM:+0100
TZOFFSETTO:+0200
TZNAME:CEST
DTSTART:20260329T010000
END:DAYLIGHT
BEGIN:STANDARD
TZOFFSETFROM:+0200
TZOFFSETTO:+0100
TZNAME:CET
DTSTART:20261025T010000
END:STANDARD
END:VTIMEZONE
BEGIN:VEVENT
DTSTART;TZID=Europe/Berlin:20260111T110000
DTEND;TZID=Europe/Berlin:20260111T140000
DTSTAMP:20260420T063225
CREATED:20251203T182442Z
LAST-MODIFIED:20251203T182442Z
UID:6479-1768129200-1768140000@spd-nauheim.de
SUMMARY:Neujahrsempfang der SPD Nauheim
DESCRIPTION:Wie jedes Jahr lädt der SPD Ortsverein Nauheim herzlich zum Neujahrsempfang ein.\nBei einem leckeren Pasta-Buffet haben alle Nauheimerinnen und Nauheimer die Möglichkeit die Kandidatinnen und Kandidaten der SPD Nauheim zur Kommunalwahl 2026 sowie das Wahlprogramm kennenzulernen. \nUm Anmeldung unter ortsverein(at)spd-nauheim.de wird gebeten.
URL:https://spd-nauheim.de/termin/neujahrsempfang-der-spd-nauheim/
LOCATION:Bürgersaal Nauheim\, Am Sportpark\, Nauheim\, 64569
CATEGORIES:Mitgliederveranstaltung,Mitgliederversammlung,Neujahrsempfang
END:VEVENT
END:VCALENDAR