BEGIN:VCALENDAR
VERSION:2.0
PRODID:-//SPD Nauheim - ECPv6.9.0//NONSGML v1.0//EN
CALSCALE:GREGORIAN
METHOD:PUBLISH
X-ORIGINAL-URL:https://spd-nauheim.de
X-WR-CALDESC:Veranstaltungen für SPD Nauheim
REFRESH-INTERVAL;VALUE=DURATION:PT1H
X-Robots-Tag:noindex
X-PUBLISHED-TTL:PT1H
BEGIN:VTIMEZONE
TZID:Europe/Berlin
BEGIN:DAYLIGHT
TZOFFSETFROM:+0100
TZOFFSETTO:+0200
TZNAME:CEST
DTSTART:20250330T010000
END:DAYLIGHT
BEGIN:STANDARD
TZOFFSETFROM:+0200
TZOFFSETTO:+0100
TZNAME:CET
DTSTART:20251026T010000
END:STANDARD
END:VTIMEZONE
BEGIN:VEVENT
DTSTART;TZID=Europe/Berlin:20250409T180000
DTEND;TZID=Europe/Berlin:20250409T200000
DTSTAMP:20260421T171500
CREATED:20241128T143004Z
LAST-MODIFIED:20241130T121635Z
UID:6201-1744221600-1744228800@spd-nauheim.de
SUMMARY:AG 60 plus
DESCRIPTION:Eingeladen sind alle Bürgerinnen und Bürger der Gemeinde Nauheim
URL:https://spd-nauheim.de/termin/treffen-der-arbeitsgemeinschaft-60-plus-2/
LOCATION:Nebenraum Hessischer Hof\, Bahnhofstr.\, Nauheim\, 64569
CATEGORIES:AG60+
END:VEVENT
BEGIN:VEVENT
DTSTART;TZID=Europe/Berlin:20250409T193000
DTEND;TZID=Europe/Berlin:20250409T213000
DTSTAMP:20260421T171500
CREATED:20241128T142755Z
LAST-MODIFIED:20241128T143754Z
UID:6199-1744227000-1744234200@spd-nauheim.de
SUMMARY:Konstituierende Vorstandssitzung
DESCRIPTION:Treffen des neu gewählten Vorstands – nicht öffentlich
URL:https://spd-nauheim.de/termin/konstituierene-vorstandssitzung/
LOCATION:SPD Geschäftsstelle\, Nauheim\, 64569
CATEGORIES:Sitzungen
END:VEVENT
END:VCALENDAR