BEGIN:VCALENDAR
VERSION:2.0
PRODID:-//SPD Nauheim - ECPv6.9.0//NONSGML v1.0//EN
CALSCALE:GREGORIAN
METHOD:PUBLISH
X-ORIGINAL-URL:https://spd-nauheim.de
X-WR-CALDESC:Veranstaltungen für SPD Nauheim
REFRESH-INTERVAL;VALUE=DURATION:PT1H
X-Robots-Tag:noindex
X-PUBLISHED-TTL:PT1H
BEGIN:VTIMEZONE
TZID:Europe/Berlin
BEGIN:DAYLIGHT
TZOFFSETFROM:+0100
TZOFFSETTO:+0200
TZNAME:CEST
DTSTART:20250330T010000
END:DAYLIGHT
BEGIN:STANDARD
TZOFFSETFROM:+0200
TZOFFSETTO:+0100
TZNAME:CET
DTSTART:20251026T010000
END:STANDARD
END:VTIMEZONE
BEGIN:VEVENT
DTSTART;TZID=Europe/Berlin:20250318T193000
DTEND;TZID=Europe/Berlin:20250318T213000
DTSTAMP:20260421T104409
CREATED:20241128T141748Z
LAST-MODIFIED:20241128T141749Z
UID:6185-1742326200-1742333400@spd-nauheim.de
SUMMARY:Vorstandssitzung
DESCRIPTION:offen für alle SPD Mitglieder
URL:https://spd-nauheim.de/termin/vorstandssitzung-5/
LOCATION:SPD Geschäftsstelle\, Nauheim\, 64569
CATEGORIES:Sitzungen
END:VEVENT
END:VCALENDAR