BEGIN:VCALENDAR
VERSION:2.0
PRODID:-//SPD Nauheim - ECPv6.9.0//NONSGML v1.0//EN
CALSCALE:GREGORIAN
METHOD:PUBLISH
X-WR-CALNAME:SPD Nauheim
X-ORIGINAL-URL:https://spd-nauheim.de
X-WR-CALDESC:Veranstaltungen für SPD Nauheim
REFRESH-INTERVAL;VALUE=DURATION:PT1H
X-Robots-Tag:noindex
X-PUBLISHED-TTL:PT1H
BEGIN:VTIMEZONE
TZID:Europe/Berlin
BEGIN:DAYLIGHT
TZOFFSETFROM:+0100
TZOFFSETTO:+0200
TZNAME:CEST
DTSTART:20250330T010000
END:DAYLIGHT
BEGIN:STANDARD
TZOFFSETFROM:+0200
TZOFFSETTO:+0100
TZNAME:CET
DTSTART:20251026T010000
END:STANDARD
END:VTIMEZONE
BEGIN:VEVENT
DTSTART;TZID=Europe/Berlin:20250218T193000
DTEND;TZID=Europe/Berlin:20250218T210000
DTSTAMP:20260421T103953
CREATED:20241128T120005Z
LAST-MODIFIED:20241128T120006Z
UID:6175-1739907000-1739912400@spd-nauheim.de
SUMMARY:Fraktionssitzung
DESCRIPTION:nichtöffentliche Sitzung
URL:https://spd-nauheim.de/termin/fraktionssitzung-4/
LOCATION:SPD Geschäftsstelle\, Nauheim\, 64569
CATEGORIES:Fraktionssitzung
END:VEVENT
END:VCALENDAR